BEGIN:VCALENDAR
VERSION:2.0
PRODID:-//klosterstadt-express.de - ECPv6.15.20//NONSGML v1.0//EN
CALSCALE:GREGORIAN
METHOD:PUBLISH
X-ORIGINAL-URL:https://klosterstadt-express.de
X-WR-CALDESC:Veranstaltungen für klosterstadt-express.de
REFRESH-INTERVAL;VALUE=DURATION:PT1H
X-Robots-Tag:noindex
X-PUBLISHED-TTL:PT1H
BEGIN:VTIMEZONE
TZID:Europe/Berlin
BEGIN:DAYLIGHT
TZOFFSETFROM:+0100
TZOFFSETTO:+0200
TZNAME:CEST
DTSTART:20210328T010000
END:DAYLIGHT
BEGIN:STANDARD
TZOFFSETFROM:+0200
TZOFFSETTO:+0100
TZNAME:CET
DTSTART:20211031T010000
END:STANDARD
BEGIN:DAYLIGHT
TZOFFSETFROM:+0100
TZOFFSETTO:+0200
TZNAME:CEST
DTSTART:20220327T010000
END:DAYLIGHT
BEGIN:STANDARD
TZOFFSETFROM:+0200
TZOFFSETTO:+0100
TZNAME:CET
DTSTART:20221030T010000
END:STANDARD
BEGIN:DAYLIGHT
TZOFFSETFROM:+0100
TZOFFSETTO:+0200
TZNAME:CEST
DTSTART:20230326T010000
END:DAYLIGHT
BEGIN:STANDARD
TZOFFSETFROM:+0200
TZOFFSETTO:+0100
TZNAME:CET
DTSTART:20231029T010000
END:STANDARD
END:VTIMEZONE
BEGIN:VEVENT
DTSTART;TZID=Europe/Berlin:20220904T101500
DTEND;TZID=Europe/Berlin:20220904T173000
DTSTAMP:20260424T175322
CREATED:20220727T182535Z
LAST-MODIFIED:20220729T172352Z
UID:2153-1662286500-1662312600@klosterstadt-express.de
SUMMARY:Sonderfahrten mit dem Roten Flitzer
DESCRIPTION:Anläßlich des 25jährigen Jubiläums gibt es im Sommer zusätzliche Fahrten mit dem historischen Schienenbus „Roter Flitzer“ – sonntags vom 31.07. bis 11.09.2022. Der „Rote Flitzer“ wird zum „Kloster-Flitzer“: \nVon Stuttgart aus gibt es zwei\, von Pforzheim eine Direktverbindung nach Maulbronn. Umgekehrt können Fahrgäste von Maulbronn auch mit dem Roten Flitzer nach Stuttgart oder Pforzheim fahren. \nHier der Fahrplan zum herunterladen:\nSonderfahrten-Roter-Flitzer.pdf
URL:https://klosterstadt-express.de/event/sonderfahrten-mit-dem-roten-flitzer-5/
ATTACH;FMTTYPE=image/jpeg:https://klosterstadt-express.de/wp-content/uploads/2022/07/Roter-Flitzer.jpg
END:VEVENT
BEGIN:VEVENT
DTSTART;TZID=Europe/Berlin:20220911T101500
DTEND;TZID=Europe/Berlin:20220911T173000
DTSTAMP:20260424T175322
CREATED:20220727T182603Z
LAST-MODIFIED:20220905T075517Z
UID:2152-1662891300-1662917400@klosterstadt-express.de
SUMMARY:Letzte Sonderfahrten mit dem Roten Flitzer
DESCRIPTION:Anläßlich des 25jährigen Jubiläums des Klosterstadt-Express gibt es im Sommer zusätzliche Fahrten mit dem historischen Schienenbus „Roter Flitzer“ – sonntags vom 31.07. bis 11.09.2022. Der „Rote Flitzer“ wird zum „Kloster-Flitzer“: \nVon Stuttgart aus gibt es zwei\, von Pforzheim eine Direktverbindung nach Maulbronn. Umgekehrt können Fahrgäste von Maulbronn auch mit dem Roten Flitzer nach Stuttgart oder Pforzheim fahren. \nHier der Fahrplan zum herunterladen:\nSonderfahrten-Roter-Flitzer.pdf
URL:https://klosterstadt-express.de/event/sonderfahrten-mit-dem-roten-flitzer-6/
ATTACH;FMTTYPE=image/jpeg:https://klosterstadt-express.de/wp-content/uploads/2022/07/Roter-Flitzer.jpg
END:VEVENT
BEGIN:VEVENT
DTSTART;TZID=Europe/Berlin:20220911T110000
DTEND;TZID=Europe/Berlin:20220911T180000
DTSTAMP:20260424T175322
CREATED:20220729T170257Z
LAST-MODIFIED:20220905T075340Z
UID:2172-1662894000-1662919200@klosterstadt-express.de
SUMMARY:Kräuter- und Erntemarkt im Klosterhof
DESCRIPTION:Der September läutet den Herbst ein – die Zeit nach der Ernte\, in der früher für die Wintervorräte gesorgt wurde: eine arbeitsintensive und zugleich gesellige Zeit mit vielen Festen. Besucher sind eingeladen\, sich nach alter Tradition mit den Früchten und Schätzen der Gärten\, Weinberge und Felder\, besonders aus der klösterlichen Kulturlandschaft rund um das UNESCO-Weltkulturerbe Kloster Maulbronn\, zu bevorraten. Kaffee und Kuchen werden ebenso angeboten wie kulinarische Genüsse rund um das Thema. \nEs besteht an diesem Tag die letzte Möglichkeit mit dem historischen Schienenbus „Roter Flitzer“ zu fahren:\nDer „Rote Flitzer“ wird zum „Kloster-Flitzer“: \nVon Stuttgart aus gibt es zwei\, von Pforzheim eine Direktverbindung nach Maulbronn. Umgekehrt können Fahrgäste von Maulbronn auch mit dem Roten Flitzer nach Stuttgart oder Pforzheim fahren. \nHier der Fahrplan zum herunterladen:\nSonderfahrten-Roter-Flitzer.pdf
URL:https://klosterstadt-express.de/event/kraeuter-und-erntemarkt-im-klosterhof/
END:VEVENT
END:VCALENDAR